BEGIN:VCALENDAR
VERSION:2.0
PRODID:-//Every National Day - ECPv6.15.20//NONSGML v1.0//EN
CALSCALE:GREGORIAN
METHOD:PUBLISH
X-ORIGINAL-URL:https://everynationalday.com
X-WR-CALDESC:Events for Every National Day
REFRESH-INTERVAL;VALUE=DURATION:PT1H
X-Robots-Tag:noindex
X-PUBLISHED-TTL:PT1H
BEGIN:VTIMEZONE
TZID:America/Chicago
BEGIN:DAYLIGHT
TZOFFSETFROM:-0600
TZOFFSETTO:-0500
TZNAME:CDT
DTSTART:20250309T080000
END:DAYLIGHT
BEGIN:STANDARD
TZOFFSETFROM:-0500
TZOFFSETTO:-0600
TZNAME:CST
DTSTART:20251102T070000
END:STANDARD
BEGIN:DAYLIGHT
TZOFFSETFROM:-0600
TZOFFSETTO:-0500
TZNAME:CDT
DTSTART:20260308T080000
END:DAYLIGHT
BEGIN:STANDARD
TZOFFSETFROM:-0500
TZOFFSETTO:-0600
TZNAME:CST
DTSTART:20261101T070000
END:STANDARD
BEGIN:DAYLIGHT
TZOFFSETFROM:-0600
TZOFFSETTO:-0500
TZNAME:CDT
DTSTART:20270314T080000
END:DAYLIGHT
BEGIN:STANDARD
TZOFFSETFROM:-0500
TZOFFSETTO:-0600
TZNAME:CST
DTSTART:20271107T070000
END:STANDARD
BEGIN:DAYLIGHT
TZOFFSETFROM:-0600
TZOFFSETTO:-0500
TZNAME:CDT
DTSTART:20280312T080000
END:DAYLIGHT
BEGIN:STANDARD
TZOFFSETFROM:-0500
TZOFFSETTO:-0600
TZNAME:CST
DTSTART:20281105T070000
END:STANDARD
BEGIN:DAYLIGHT
TZOFFSETFROM:-0600
TZOFFSETTO:-0500
TZNAME:CDT
DTSTART:20290311T080000
END:DAYLIGHT
BEGIN:STANDARD
TZOFFSETFROM:-0500
TZOFFSETTO:-0600
TZNAME:CST
DTSTART:20291104T070000
END:STANDARD
BEGIN:DAYLIGHT
TZOFFSETFROM:-0600
TZOFFSETTO:-0500
TZNAME:CDT
DTSTART:20300310T080000
END:DAYLIGHT
BEGIN:STANDARD
TZOFFSETFROM:-0500
TZOFFSETTO:-0600
TZNAME:CST
DTSTART:20301103T070000
END:STANDARD
END:VTIMEZONE
BEGIN:VEVENT
DTSTART;VALUE=DATE:20261210
DTEND;VALUE=DATE:20261211
DTSTAMP:20260423T094028
CREATED:20251120T162438Z
LAST-MODIFIED:20251120T163917Z
UID:10002092-1796860800-1796947199@everynationalday.com
SUMMARY:Human Rights Day
DESCRIPTION:Honoring the Rights That Belong to Every Human Being\nHuman Rights Day\, observed each year on December 10\, marks the anniversary of the adoption of the Universal Declaration of Human Rights (UDHR) in 1948. Drafted in the aftermath of World War II\, the UDHR became the first global statement to affirm that every person — regardless of race\, religion\, nationality\, gender\, or status — is entitled to dignity\, freedom\, equality\, and justice. Human Rights Day invites people around the world to reflect on those promises\, celebrate progress\, and recognize the work still needed to ensure that human rights are not just ideals but lived realities. \n\n  \n\nThe Birth of a Universal Promise\nThe writing of the UDHR was a monumental effort led by diplomats\, activists\, and thinkers from diverse nations. Eleanor Roosevelt chaired the drafting committee\, guiding representatives from countries with vastly different cultures and political systems toward a shared set of principles. On December 10\, 1948\, the United Nations General Assembly adopted the document with overwhelming support. Though not legally binding\, the UDHR became the foundation for dozens of treaties\, national constitutions\, and international laws — a moral compass for a world seeking to rebuild and reform. \n\n  \n\nHuman Rights in Practice\nHuman rights are not abstract concepts; they shape everyday life. They protect freedom of speech and belief\, ensure fair treatment under the law\, guarantee access to education and healthcare\, and affirm the right to safety\, privacy\, and participation in society. Around the globe\, Human Rights Day brings attention to ongoing struggles — from discrimination and poverty to censorship\, violence\, and displacement. It also highlights victories: grassroots movements securing land rights\, new policies safeguarding marginalized groups\, and communities advocating for equality and inclusion. \n\n  \n\nChallenges and Calls to Action\nDespite decades of progress\, millions still face barriers to basic rights. Journalists are imprisoned for their reporting\, children are denied education\, and refugees flee conflict and persecution with little protection. Digital surveillance threatens privacy; climate change intensifies inequality. Human Rights Day serves as a reminder that rights must be defended continuously — through civic engagement\, advocacy\, education\, and accountability. The day challenges governments to uphold their obligations and empowers individuals to speak out when those rights are threatened. \n\n  \n\nWays to Observe Human Rights Day\n\nLearn and reflect: Read the Universal Declaration of Human Rights and explore how its principles apply today.\nSupport advocacy groups: Donate to or volunteer with organizations working for justice\, equality\, and human dignity.\nAmplify voices: Share stories from marginalized communities and advocate for policy changes that protect human rights.\nEngage locally: Attend public discussions\, film screenings\, or educational events hosted by schools or community groups.\nPractice everyday inclusion: Challenge discrimination\, promote fairness\, and uplift the rights of others in your daily interactions.\n\n\n  \n\nA Shared Responsibility\nHuman Rights Day is both a celebration and a commitment. It honors the courage of those who have fought — and continue to fight — for justice. It reminds us that rights are not guaranteed by documents alone\, but by the collective actions of people willing to defend them. Whether through education\, advocacy\, or simple acts of empathy\, each of us plays a part in shaping a world where dignity is not a privilege but a universal promise. On December 10\, take a moment to reflect on that promise — and consider how you can help push it forward.
URL:https://everynationalday.com/event/human-rights-day/2026-12-10/
CATEGORIES:Cause,Cultural
ATTACH;FMTTYPE=image/jpeg:https://e5pam3myoro.exactdn.com/wp-content/uploads/2025/11/Human-Rights.jpg
END:VEVENT
BEGIN:VEVENT
DTSTART;VALUE=DATE:20271210
DTEND;VALUE=DATE:20271211
DTSTAMP:20260423T094028
CREATED:20251120T162438Z
LAST-MODIFIED:20251120T163917Z
UID:10002093-1828396800-1828483199@everynationalday.com
SUMMARY:Human Rights Day
DESCRIPTION:Honoring the Rights That Belong to Every Human Being\nHuman Rights Day\, observed each year on December 10\, marks the anniversary of the adoption of the Universal Declaration of Human Rights (UDHR) in 1948. Drafted in the aftermath of World War II\, the UDHR became the first global statement to affirm that every person — regardless of race\, religion\, nationality\, gender\, or status — is entitled to dignity\, freedom\, equality\, and justice. Human Rights Day invites people around the world to reflect on those promises\, celebrate progress\, and recognize the work still needed to ensure that human rights are not just ideals but lived realities. \n\n  \n\nThe Birth of a Universal Promise\nThe writing of the UDHR was a monumental effort led by diplomats\, activists\, and thinkers from diverse nations. Eleanor Roosevelt chaired the drafting committee\, guiding representatives from countries with vastly different cultures and political systems toward a shared set of principles. On December 10\, 1948\, the United Nations General Assembly adopted the document with overwhelming support. Though not legally binding\, the UDHR became the foundation for dozens of treaties\, national constitutions\, and international laws — a moral compass for a world seeking to rebuild and reform. \n\n  \n\nHuman Rights in Practice\nHuman rights are not abstract concepts; they shape everyday life. They protect freedom of speech and belief\, ensure fair treatment under the law\, guarantee access to education and healthcare\, and affirm the right to safety\, privacy\, and participation in society. Around the globe\, Human Rights Day brings attention to ongoing struggles — from discrimination and poverty to censorship\, violence\, and displacement. It also highlights victories: grassroots movements securing land rights\, new policies safeguarding marginalized groups\, and communities advocating for equality and inclusion. \n\n  \n\nChallenges and Calls to Action\nDespite decades of progress\, millions still face barriers to basic rights. Journalists are imprisoned for their reporting\, children are denied education\, and refugees flee conflict and persecution with little protection. Digital surveillance threatens privacy; climate change intensifies inequality. Human Rights Day serves as a reminder that rights must be defended continuously — through civic engagement\, advocacy\, education\, and accountability. The day challenges governments to uphold their obligations and empowers individuals to speak out when those rights are threatened. \n\n  \n\nWays to Observe Human Rights Day\n\nLearn and reflect: Read the Universal Declaration of Human Rights and explore how its principles apply today.\nSupport advocacy groups: Donate to or volunteer with organizations working for justice\, equality\, and human dignity.\nAmplify voices: Share stories from marginalized communities and advocate for policy changes that protect human rights.\nEngage locally: Attend public discussions\, film screenings\, or educational events hosted by schools or community groups.\nPractice everyday inclusion: Challenge discrimination\, promote fairness\, and uplift the rights of others in your daily interactions.\n\n\n  \n\nA Shared Responsibility\nHuman Rights Day is both a celebration and a commitment. It honors the courage of those who have fought — and continue to fight — for justice. It reminds us that rights are not guaranteed by documents alone\, but by the collective actions of people willing to defend them. Whether through education\, advocacy\, or simple acts of empathy\, each of us plays a part in shaping a world where dignity is not a privilege but a universal promise. On December 10\, take a moment to reflect on that promise — and consider how you can help push it forward.
URL:https://everynationalday.com/event/human-rights-day/2027-12-10/
CATEGORIES:Cause,Cultural
ATTACH;FMTTYPE=image/jpeg:https://e5pam3myoro.exactdn.com/wp-content/uploads/2025/11/Human-Rights.jpg
END:VEVENT
BEGIN:VEVENT
DTSTART;VALUE=DATE:20281210
DTEND;VALUE=DATE:20281211
DTSTAMP:20260423T094028
CREATED:20251120T162438Z
LAST-MODIFIED:20251120T163917Z
UID:10002094-1860019200-1860105599@everynationalday.com
SUMMARY:Human Rights Day
DESCRIPTION:Honoring the Rights That Belong to Every Human Being\nHuman Rights Day\, observed each year on December 10\, marks the anniversary of the adoption of the Universal Declaration of Human Rights (UDHR) in 1948. Drafted in the aftermath of World War II\, the UDHR became the first global statement to affirm that every person — regardless of race\, religion\, nationality\, gender\, or status — is entitled to dignity\, freedom\, equality\, and justice. Human Rights Day invites people around the world to reflect on those promises\, celebrate progress\, and recognize the work still needed to ensure that human rights are not just ideals but lived realities. \n\n  \n\nThe Birth of a Universal Promise\nThe writing of the UDHR was a monumental effort led by diplomats\, activists\, and thinkers from diverse nations. Eleanor Roosevelt chaired the drafting committee\, guiding representatives from countries with vastly different cultures and political systems toward a shared set of principles. On December 10\, 1948\, the United Nations General Assembly adopted the document with overwhelming support. Though not legally binding\, the UDHR became the foundation for dozens of treaties\, national constitutions\, and international laws — a moral compass for a world seeking to rebuild and reform. \n\n  \n\nHuman Rights in Practice\nHuman rights are not abstract concepts; they shape everyday life. They protect freedom of speech and belief\, ensure fair treatment under the law\, guarantee access to education and healthcare\, and affirm the right to safety\, privacy\, and participation in society. Around the globe\, Human Rights Day brings attention to ongoing struggles — from discrimination and poverty to censorship\, violence\, and displacement. It also highlights victories: grassroots movements securing land rights\, new policies safeguarding marginalized groups\, and communities advocating for equality and inclusion. \n\n  \n\nChallenges and Calls to Action\nDespite decades of progress\, millions still face barriers to basic rights. Journalists are imprisoned for their reporting\, children are denied education\, and refugees flee conflict and persecution with little protection. Digital surveillance threatens privacy; climate change intensifies inequality. Human Rights Day serves as a reminder that rights must be defended continuously — through civic engagement\, advocacy\, education\, and accountability. The day challenges governments to uphold their obligations and empowers individuals to speak out when those rights are threatened. \n\n  \n\nWays to Observe Human Rights Day\n\nLearn and reflect: Read the Universal Declaration of Human Rights and explore how its principles apply today.\nSupport advocacy groups: Donate to or volunteer with organizations working for justice\, equality\, and human dignity.\nAmplify voices: Share stories from marginalized communities and advocate for policy changes that protect human rights.\nEngage locally: Attend public discussions\, film screenings\, or educational events hosted by schools or community groups.\nPractice everyday inclusion: Challenge discrimination\, promote fairness\, and uplift the rights of others in your daily interactions.\n\n\n  \n\nA Shared Responsibility\nHuman Rights Day is both a celebration and a commitment. It honors the courage of those who have fought — and continue to fight — for justice. It reminds us that rights are not guaranteed by documents alone\, but by the collective actions of people willing to defend them. Whether through education\, advocacy\, or simple acts of empathy\, each of us plays a part in shaping a world where dignity is not a privilege but a universal promise. On December 10\, take a moment to reflect on that promise — and consider how you can help push it forward.
URL:https://everynationalday.com/event/human-rights-day/2028-12-10/
CATEGORIES:Cause,Cultural
ATTACH;FMTTYPE=image/jpeg:https://e5pam3myoro.exactdn.com/wp-content/uploads/2025/11/Human-Rights.jpg
END:VEVENT
BEGIN:VEVENT
DTSTART;VALUE=DATE:20291210
DTEND;VALUE=DATE:20291211
DTSTAMP:20260423T094028
CREATED:20251120T162438Z
LAST-MODIFIED:20251120T163917Z
UID:10002095-1891555200-1891641599@everynationalday.com
SUMMARY:Human Rights Day
DESCRIPTION:Honoring the Rights That Belong to Every Human Being\nHuman Rights Day\, observed each year on December 10\, marks the anniversary of the adoption of the Universal Declaration of Human Rights (UDHR) in 1948. Drafted in the aftermath of World War II\, the UDHR became the first global statement to affirm that every person — regardless of race\, religion\, nationality\, gender\, or status — is entitled to dignity\, freedom\, equality\, and justice. Human Rights Day invites people around the world to reflect on those promises\, celebrate progress\, and recognize the work still needed to ensure that human rights are not just ideals but lived realities. \n\n  \n\nThe Birth of a Universal Promise\nThe writing of the UDHR was a monumental effort led by diplomats\, activists\, and thinkers from diverse nations. Eleanor Roosevelt chaired the drafting committee\, guiding representatives from countries with vastly different cultures and political systems toward a shared set of principles. On December 10\, 1948\, the United Nations General Assembly adopted the document with overwhelming support. Though not legally binding\, the UDHR became the foundation for dozens of treaties\, national constitutions\, and international laws — a moral compass for a world seeking to rebuild and reform. \n\n  \n\nHuman Rights in Practice\nHuman rights are not abstract concepts; they shape everyday life. They protect freedom of speech and belief\, ensure fair treatment under the law\, guarantee access to education and healthcare\, and affirm the right to safety\, privacy\, and participation in society. Around the globe\, Human Rights Day brings attention to ongoing struggles — from discrimination and poverty to censorship\, violence\, and displacement. It also highlights victories: grassroots movements securing land rights\, new policies safeguarding marginalized groups\, and communities advocating for equality and inclusion. \n\n  \n\nChallenges and Calls to Action\nDespite decades of progress\, millions still face barriers to basic rights. Journalists are imprisoned for their reporting\, children are denied education\, and refugees flee conflict and persecution with little protection. Digital surveillance threatens privacy; climate change intensifies inequality. Human Rights Day serves as a reminder that rights must be defended continuously — through civic engagement\, advocacy\, education\, and accountability. The day challenges governments to uphold their obligations and empowers individuals to speak out when those rights are threatened. \n\n  \n\nWays to Observe Human Rights Day\n\nLearn and reflect: Read the Universal Declaration of Human Rights and explore how its principles apply today.\nSupport advocacy groups: Donate to or volunteer with organizations working for justice\, equality\, and human dignity.\nAmplify voices: Share stories from marginalized communities and advocate for policy changes that protect human rights.\nEngage locally: Attend public discussions\, film screenings\, or educational events hosted by schools or community groups.\nPractice everyday inclusion: Challenge discrimination\, promote fairness\, and uplift the rights of others in your daily interactions.\n\n\n  \n\nA Shared Responsibility\nHuman Rights Day is both a celebration and a commitment. It honors the courage of those who have fought — and continue to fight — for justice. It reminds us that rights are not guaranteed by documents alone\, but by the collective actions of people willing to defend them. Whether through education\, advocacy\, or simple acts of empathy\, each of us plays a part in shaping a world where dignity is not a privilege but a universal promise. On December 10\, take a moment to reflect on that promise — and consider how you can help push it forward.
URL:https://everynationalday.com/event/human-rights-day/2029-12-10/
CATEGORIES:Cause,Cultural
ATTACH;FMTTYPE=image/jpeg:https://e5pam3myoro.exactdn.com/wp-content/uploads/2025/11/Human-Rights.jpg
END:VEVENT
END:VCALENDAR